BEGIN:VCALENDAR
VERSION:2.0
METHOD:PUBLISH
BEGIN:VEVENT
DTSTART:20210618T180000
DTEND:20210618T180000
LOCATION:Filia nr 7 Miejskiej Bibliotek Publicznej w Szczecinie plac Matki Teresy z Kalkuty 8  Szczecin
TRANSP: OPAQUE
SEQUENCE:0
UID:
DTSTAMP:20260423T042359Z
SUMMARY:Spotkanie z Agnieszką Gładzik [Szczecin literacki]
DESCRIPTION:Zapraszamy na spotkanie z Agnieszką Gładzik poświęcone jej najnowszej powieści "Znak Gryfa", które odbędzie się 18 czerwca (piątek) o godz. 18.00. Rozmowę poprowadzi Krzysztof Lichtblau.......
URL:https://app.evenea.pl/event/spotkanie-agnieszka-gladzik/
PRIORITY:1
CLASS:PUBLIC
END:VEVENT
END:VCALENDAR
