BEGIN:VCALENDAR
VERSION:2.0
METHOD:PUBLISH
BEGIN:VEVENT
DTSTART:20210614T180000
DTEND:20210614T180000
LOCATION:Filia nr 7 Miejskiej Bibliotek Publicznej w Szczecinie plac Matki Teresy z Kalkuty 8  Szczecin
TRANSP: OPAQUE
SEQUENCE:0
UID:
DTSTAMP:20260419T162056Z
SUMMARY:Spotkanie z Anną Kańtoch
DESCRIPTION:14 czerwca (poniedziałek) o godz. 18.00 odbędzie się spotkanie autorskie z Anną Kańtoch, które poprowadzi Anna Godzińska. Wydarzenie odbędzie się w formule hybrydowej: stacjonarnie dla......
URL:https://app.evenea.pl/event/spotkanie-anna-kantoch/
PRIORITY:1
CLASS:PUBLIC
END:VEVENT
END:VCALENDAR
