BEGIN:VCALENDAR
VERSION:2.0
METHOD:PUBLISH
BEGIN:VEVENT
DTSTART:20240730T110000
DTEND:20240730T130000
LOCATION:Miejsce Otwarte. Centrum Integracji Międzykulturowej. Kraków os. Górali 24  Kraków
TRANSP: OPAQUE
SEQUENCE:0
UID:
DTSTAMP:20260423T223402Z
SUMMARY:Spotkanie informacyjne z przedstawicielami Komendy Wojewódzkiej Policji | Informational meeting with representatives of Police Headquarters | Інформаційна зустріч з представниками поліції
DESCRIPTION:Język prowadzenia: polski z możliwością tłumaczenia na język ukraińskiPLZapraszamy na spotkanie z przedstawicielami Komendy Wojewódzkiej Policji w Krakowie, które odbędzie się we wtorek,......
URL:https://app.evenea.pl/event/spotkanie-informacyjne3007/
PRIORITY:1
CLASS:PUBLIC
END:VEVENT
END:VCALENDAR
