BEGIN:VCALENDAR
VERSION:2.0
METHOD:PUBLISH
BEGIN:VEVENT
DTSTART:20210630T130000
DTEND:20210630T130000
LOCATION:Miejska Biblioteka Publiczna w Żorach Rybnicka 6-8  ŻORY
TRANSP: OPAQUE
SEQUENCE:0
UID:
DTSTAMP:20260423T145532Z
SUMMARY:Jak wejść na rynki zagraniczne? - spotkanie w Żorach
DESCRIPTION:Jak wejść na rynki zagraniczne?SPOTKANIE INFORMACYJNE DLA MŚP PLANUJĄCYCH LUB PROWADZĄCYCH DZIAŁALNOŚĆ EKSPORTOWĄ30 CZERWCA 2021, GODZINA 13:00, ŻORYCzy moja firma jest gotowa na eksport?......
URL:https://app.evenea.pl/event/spotkanie-ip/
PRIORITY:1
CLASS:PUBLIC
END:VEVENT
END:VCALENDAR
