BEGIN:VCALENDAR
VERSION:2.0
METHOD:PUBLISH
BEGIN:VEVENT
DTSTART:20210621T180000
DTEND:20210621T180000
LOCATION:Filia nr 7 Miejskiej Bibliotek Publicznej w Szczecinie plac Matki Teresy z Kalkuty 8  Szczecin
TRANSP: OPAQUE
SEQUENCE:0
UID:
DTSTAMP:20260419T150134Z
SUMMARY:Spotkanie z Jakubem Szamałkiem
DESCRIPTION:21 czerwca (poniedziałek) o godz. 18.00 zapraszamy na spotkanie z Jakubem Szamałkiem. Prowadzenie Gabriel Augustyn. Wydarzenie odbędzie się w formule hybrydowej: stacjonarnie dla ograniczonej......
URL:https://app.evenea.pl/event/spotkanie-jakub-szamalek/
PRIORITY:1
CLASS:PUBLIC
END:VEVENT
END:VCALENDAR
