BEGIN:VCALENDAR
VERSION:2.0
METHOD:PUBLISH
BEGIN:VEVENT
DTSTART:20191210T150000
DTEND:20191210T150000
LOCATION:Aula Starej Biblioteki ul. Krakowskie Przedmieście 26/28​  Warszawa
TRANSP: OPAQUE
SEQUENCE:0
UID:
DTSTAMP:20260421T194549Z
SUMMARY:Spotkanie o kadrach na UW - 10 grudnia 2019 r.
DESCRIPTION:10 grudnia 2019 r. 15:00-18:00ul. Krakowskie Przedmieście 26/28Aula Starej Biblioteki...
URL:https://app.evenea.pl/event/spotkanie-kadry1012/
PRIORITY:1
CLASS:PUBLIC
END:VEVENT
END:VCALENDAR
