BEGIN:VCALENDAR
VERSION:2.0
METHOD:PUBLISH
BEGIN:VEVENT
DTSTART:20250816T100000
DTEND:20250816T100000
LOCATION:Miejsce Aktywności Lokalnej Szerokie Możliwości ul. Nałęczowska 175  Lublin
TRANSP: OPAQUE
SEQUENCE:0
UID:
DTSTAMP:20260420T115525Z
SUMMARY:Spotkanie kulinarne w MAL-u Szerokie Możliwości
DESCRIPTION:Zapraszamy na bezpłatne spotkania kulinarne. Chcemy, wspólnie z Wami przygotować dużo pysznych rzeczy na Śniadanie Sąsiedzkie, które odbędzie się tuż po Spotkaniu :)Chcecie podzielić......
URL:https://app.evenea.pl/event/spotkanie-kulinarne-sierpien/
PRIORITY:1
CLASS:PUBLIC
END:VEVENT
END:VCALENDAR
