BEGIN:VCALENDAR
VERSION:2.0
METHOD:PUBLISH
BEGIN:VEVENT
DTSTART:20250726T100000
DTEND:20250726T100000
LOCATION:Miejsce Aktywności Lokalnej Szerokie Możliwości ul. Nałęczowska 175  Lublin
TRANSP: OPAQUE
SEQUENCE:0
UID:
DTSTAMP:20260420T151743Z
SUMMARY:Spotkanie kulinarne
DESCRIPTION:Zapraszamy na spotkania kulinarne. Chcemy, wspólnie z Wami przygotować dużo pysznych rzeczy na Śniadanie Sąsiedzkie, które odbędzie się tuż po Spotkaniu :)Chcecie podzielić się z nami......
URL:https://app.evenea.pl/event/spotkanie-kulinarne/
PRIORITY:1
CLASS:PUBLIC
END:VEVENT
END:VCALENDAR
