BEGIN:VCALENDAR
VERSION:2.0
METHOD:PUBLISH
BEGIN:VEVENT
DTSTART:20210122T120000
DTEND:20210122T130000
LOCATION:Spotkanie online Dostęp zdalny  Dla uczestników
TRANSP: OPAQUE
SEQUENCE:0
UID:
DTSTAMP:20260419T143416Z
SUMMARY:Zapraszamy na "Spotkanie z przedsiębiorczością online"
DESCRIPTION:"Spotkania z przedsiębiorczością" wracają w nowej formule online! Myślisz o założeniu własnej firmy i zastanawiasz się, czy realizowane są aktualnie programy pomocowe z których możesz......
URL:https://app.evenea.pl/event/spotkanie-online-styczen/
PRIORITY:1
CLASS:PUBLIC
END:VEVENT
END:VCALENDAR
