BEGIN:VCALENDAR
VERSION:2.0
METHOD:PUBLISH
BEGIN:VEVENT
DTSTART:20210429T170000
DTEND:20210429T170000
LOCATION:Transmisja online   
TRANSP: OPAQUE
SEQUENCE:0
UID:
DTSTAMP:20260421T135337Z
SUMMARY:Czy są i gdzie szukać środków na biznes w województwie śląskim? Spotkanie Firm Członkowskich i nie tylko
DESCRIPTION:Zapraszamy na otwarte Spotkanie Firm Członkowskich w formule online! Widzimy się 29 kwietnia o godzinie 17:00. Do uczestnictwa wystarczy podstawowa przeglądarka internetowa lub Microsoft Teams.......
URL:https://app.evenea.pl/event/spotkanie2704/
PRIORITY:1
CLASS:PUBLIC
END:VEVENT
END:VCALENDAR
