BEGIN:VCALENDAR
VERSION:2.0
METHOD:PUBLISH
BEGIN:VEVENT
DTSTART:20240424T163000
DTEND:20240424T173000
LOCATION:Miejsce Otwarte. Centrum Integracji Międzykulturowej. Kraków os. Górali 24  Kraków
TRANSP: OPAQUE
SEQUENCE:0
UID:
DTSTAMP:20260423T050438Z
SUMMARY:Dobra, ale co dalej? - spotkanie dla  młodych ludzi stojących przed wyborem ścieżki zawodowej 13+ | Гаразд, але що далі? - зустріч для молоді, що стоїть перед вибором кар'єри 13+
DESCRIPTION:Grupa wiekowa: 13+ lat Język prowadzenia: polski z tłumaczeniem na język ukraińskiPL/ENG/UADobra, ale co dalej? - spotkanie z Air Liquide Engineering &amp; Construction dla młodych ludzi......
URL:https://app.evenea.pl/event/spotkanieairliquide13/
PRIORITY:1
CLASS:PUBLIC
END:VEVENT
END:VCALENDAR
