BEGIN:VCALENDAR
VERSION:2.0
METHOD:PUBLISH
BEGIN:VEVENT
DTSTART:20191126T150000
DTEND:20191126T150000
LOCATION:Aula Centrum Nauk Biologiczno-Chemicznych ul. Żwirki i Wigury 101​  Warszawa
TRANSP: OPAQUE
SEQUENCE:0
UID:
DTSTAMP:20260423T144224Z
SUMMARY:Spotkanie o kształceniu na UW - 26 listopada 2019 r.
DESCRIPTION:26 listopada 2019 r. 15:00-18:00ul. Żwirki i Wigury 101Aula Centrum Nauk Biologiczno-Chemicznych...
URL:https://app.evenea.pl/event/spotkanieoksztalceniu2611/
PRIORITY:1
CLASS:PUBLIC
END:VEVENT
END:VCALENDAR
