BEGIN:VCALENDAR
VERSION:2.0
METHOD:PUBLISH
BEGIN:VEVENT
DTSTART:20230921T173000
DTEND:20230921T203000
LOCATION:FabLab powered by Orange Targowa 56  Warszawa
TRANSP: OPAQUE
SEQUENCE:0
UID:
DTSTAMP:20260426T051829Z
SUMMARY:Spotkanie inspiracyjno-sieciujące Maker Woman
DESCRIPTION:21 września zapraszamy Was na kolejne wyjątkowe spotkanie "Jak skutecznie zaplanować ekspansję swojego produktu" w ramach inspiracyjno-sieciujących spotkań Maker Woman.W FabLabie posiadamy......
URL:https://app.evenea.pl/event/spotkaniesieciujace/
PRIORITY:1
CLASS:PUBLIC
END:VEVENT
END:VCALENDAR
