BEGIN:VCALENDAR
VERSION:2.0
METHOD:PUBLISH
BEGIN:VEVENT
DTSTART:20230623T100000
DTEND:20230623T121500
LOCATION:Sąd Okręgowy w Koszalinie ul. Waryńskiego 7  Koszalin
TRANSP: OPAQUE
SEQUENCE:0
UID:
DTSTAMP:20260424T144014Z
SUMMARY:KOSZALIN - Spotkanie Sędziów z Mediatorami
DESCRIPTION:Z A P R O S Z E N I Ena spotkanie mediatorów z przedstawicielami wymiaru sprawiedliwościSpotkanie odbędzie się w dniu 23 czerwca 2023 r. w godz. 10:00 - 12:15 w siedzibie Sądu Okręgowego w......
URL:https://app.evenea.pl/event/spotkaniesokoszalin/
PRIORITY:1
CLASS:PUBLIC
END:VEVENT
END:VCALENDAR
