BEGIN:VCALENDAR
VERSION:2.0
METHOD:PUBLISH
BEGIN:VEVENT
DTSTART:20241128T170000
DTEND:20241128T200000
LOCATION:Wojewódzki Urząd Ochrony Zabytków w Warszawie Nowy Świat 18/20  Warszawa
TRANSP: OPAQUE
SEQUENCE:0
UID:
DTSTAMP:20260422T160748Z
SUMMARY:Spotkanie Społecznych Opiekunów Zabytków z Mazowieckim Wojewódzkim Konserwatorem Zabytków
DESCRIPTION:Zapraszamy Społecznych Opiekunów Zabytków na spotkanie z Mazowieckim Wojewódzkim Konserwatorem Zabytków. ...
URL:https://app.evenea.pl/event/spotkaniesozzmwkz/
PRIORITY:1
CLASS:PUBLIC
END:VEVENT
END:VCALENDAR
