BEGIN:VCALENDAR
VERSION:2.0
METHOD:PUBLISH
BEGIN:VEVENT
DTSTART:20191213T180000
DTEND:20191213T220000
LOCATION:Warszawa   Warszawa
TRANSP: OPAQUE
SEQUENCE:0
UID:
DTSTAMP:20260420T061732Z
SUMMARY:Spotkanie Świąteczne Izby Coachingu
DESCRIPTION:Zapraszamy wszystkich Członków i Sympatyków Izby Coachingu na spotkanie świąteczne :) Szanowni Państwo, Wielkimi krokami zbliża się świąteczny czas. Jest to zwykle okazja do spotkań z......
URL:https://app.evenea.pl/event/spotkanieswiateczneic/
PRIORITY:1
CLASS:PUBLIC
END:VEVENT
END:VCALENDAR
