BEGIN:VCALENDAR
VERSION:2.0
METHOD:PUBLISH
BEGIN:VEVENT
DTSTART:20251125T190000
DTEND:20251125T190000
LOCATION:Fundacja Palma Jaskowa Dolina 4/11  Gdańsk
TRANSP: OPAQUE
SEQUENCE:0
UID:
DTSTAMP:20260424T064520Z
SUMMARY:Sotkania filozoficzne: Rozmowy o symbolach (religijnych) | 25.11.2025 r., godz. 19:00
DESCRIPTION:Cykl spotkań filozoficznych, który poświęcony jest kluczowym pytaniom i zagadnieniom dotyczącym człowieka. Punktem wyjścia są teksty filozoficzne - eseje, artykuły, fragmenty dzieł......
URL:https://app.evenea.pl/event/spotknia-filozoficzne/
PRIORITY:1
CLASS:PUBLIC
END:VEVENT
END:VCALENDAR
