BEGIN:VCALENDAR
VERSION:2.0
METHOD:PUBLISH
BEGIN:VEVENT
DTSTART:20231129T160000
DTEND:20231129T190000
LOCATION:Centrum Rozwoju Inicjatyw Społecznych CRIS ul. Rudzka 13  Rybnik
TRANSP: OPAQUE
SEQUENCE:0
UID:
DTSTAMP:20260424T080922Z
SUMMARY:Spotkanie edukacyjne dla NGO: sprawozdawczość
DESCRIPTION:Koniec roku kalendarzowego i sprawozdawczego tuż, tuż.... Jak co roku zapraszamy organizacje pozarządowe na spotkanie dot. sprawozdawczości. Spotkanie jest przeznaczone głównie dla osób......
URL:https://app.evenea.pl/event/sprawozdania/
PRIORITY:1
CLASS:PUBLIC
END:VEVENT
END:VCALENDAR
