BEGIN:VCALENDAR
VERSION:2.0
METHOD:PUBLISH
BEGIN:VEVENT
DTSTART:20240412T170000
DTEND:20240412T183000
LOCATION:Miejsce Otwarte. Centrum Integracji Międzykulturowej. Kraków, Kraków os. Górali 24  Kraków
TRANSP: OPAQUE
SEQUENCE:0
UID:
DTSTAMP:20260423T045420Z
SUMMARY:Kurs SMM "Sprzedaż poprzez sieci społecznościowe" | SMM Course "Sales through social media" | Курс SMM "Продажі через соціальні мережі"
DESCRIPTION:Grupa wiekowa: 18+Język prowadzenia: ukraińskiPLPrzeprowadziłeś się do Krakowa i straciłeś stałych klientów? Twoja wiedza lub produkty nie sprzedają się w nowej lokalizacji?Już 2 lutego......
URL:https://app.evenea.pl/event/sprzedaz1204/
PRIORITY:1
CLASS:PUBLIC
END:VEVENT
END:VCALENDAR
