BEGIN:VCALENDAR
VERSION:2.0
METHOD:PUBLISH
BEGIN:VEVENT
DTSTART:20251024T170000
DTEND:20251024T170000
LOCATION:Plac Praw Kobiet Plac Praw Kobiet  Bydgoszcz
TRANSP: OPAQUE
SEQUENCE:0
UID:
DTSTAMP:20260426T044522Z
SUMMARY:Śródmieście w pigułce - 24 października
DESCRIPTION:Serdecznie zapraszam, na spacer "Śródmieście w Pigułce"!A na nim - wszystko co najważniejsze w historii bydgoskiego śródmieścia. Rozwój jego urbanistyki, lista najważniejszych twórców i......
URL:https://app.evenea.pl/event/srodmiescie-w-pigulcekopia1/
PRIORITY:1
CLASS:PUBLIC
END:VEVENT
END:VCALENDAR
