BEGIN:VCALENDAR
VERSION:2.0
METHOD:PUBLISH
BEGIN:VEVENT
DTSTART:20230509T100000
DTEND:20230509T140000
LOCATION:RESTAURACJA HUDSON ul. Połczyńska 18 75-815 Koszalin  KOSZALIN
TRANSP: OPAQUE
SEQUENCE:0
UID:
DTSTAMP:20260425T055047Z
SUMMARY:Szkolenie: O strefach praktycznie - korzystanie z ulgi z tytułu nowych inwestycji - najważniejsze kwestie podatkowe/ Ulgi inwestycyjne dla przedsiębiorców planujących realizację nowych inwestycji.
DESCRIPTION:Szanowni Państwo,Pomorska Agencja Rozwoju Regionalnego S.A., spółka zarządzająca Słupską Specjalną Strefą Ekonomiczną, oraz PwC zapraszają na szkolenie stacjonarne: O strefach......
URL:https://app.evenea.pl/event/ssseostrefachpraktycznie/
PRIORITY:1
CLASS:PUBLIC
END:VEVENT
END:VCALENDAR
