BEGIN:VCALENDAR
VERSION:2.0
METHOD:PUBLISH
BEGIN:VEVENT
DTSTART:20200618T100000
DTEND:20200618T110000
LOCATION:   
TRANSP: OPAQUE
SEQUENCE:0
UID:
DTSTAMP:20260423T170300Z
SUMMARY:Prowadzenie działalności produkcyjnej  w czasie pandemii i okresie post - pandemicznym
DESCRIPTION:Pomorska Agencja Rozwoju Regionalnego S.A oraz firma Bilfinger Tebodin Sp. z.o.o serdecznie zapraszają do udziału w warsztacie online pt. "Prowadzenie działalności produkcyjnej w czasie......
URL:https://app.evenea.pl/event/sssewdrodzeprzemysl/
PRIORITY:1
CLASS:PUBLIC
END:VEVENT
END:VCALENDAR
