BEGIN:VCALENDAR
VERSION:2.0
METHOD:PUBLISH
BEGIN:VEVENT
DTSTART:20210414T090000
DTEND:20210414T100000
LOCATION:   
TRANSP: OPAQUE
SEQUENCE:0
UID:
DTSTAMP:20260422T223311Z
SUMMARY:"Inwestujesz tam, gdzie chcesz - kompleksowe wsparcie w rozwoju przedsiębiorców" z Powiatu Świdwińskiego
DESCRIPTION:Pomorska Agencja Rozwoju Regionalnego S.A. zaprasza na webinarium biznesowe z cyklu Słupska Specjalna Strefa Ekonomiczna w drodze. W dniu 14.04.2021r. zawitamy "wirtualnie" do Powiatu......
URL:https://app.evenea.pl/event/sssewdrodzeswidwinski/
PRIORITY:1
CLASS:PUBLIC
END:VEVENT
END:VCALENDAR
