BEGIN:VCALENDAR
VERSION:2.0
METHOD:PUBLISH
BEGIN:VEVENT
DTSTART:20260205T170000
DTEND:20260205T170000
LOCATION:Waterfront Waszyngtona 13a  Gdynia
TRANSP: OPAQUE
SEQUENCE:0
UID:
DTSTAMP:20260422T064109Z
SUMMARY:Premiera książki "Sto lat śnienia Gdyni"
DESCRIPTION:Serdecznie zapraszamy na oficjalną premierę książki "Sto lat śnienia Gdyni". To wizualny poemat do czytania, oglądania i czucia, który łączy sztukę współczesną, historię i refleksję......
URL:https://app.evenea.pl/event/stalatsnienia/
PRIORITY:1
CLASS:PUBLIC
END:VEVENT
END:VCALENDAR
