BEGIN:VCALENDAR
VERSION:2.0
METHOD:PUBLISH
BEGIN:VEVENT
DTSTART:20210209T110000
DTEND:20210209T110000
LOCATION:PFR Ventures on-line  
TRANSP: OPAQUE
SEQUENCE:0
UID:
DTSTAMP:20260425T132356Z
SUMMARY:PFR Starter + PFR Biznest -  spotkanie informacyjne on-line
DESCRIPTION:PFR Ventures zaprasza na spotkanie informacyjne na temat dziesiątego naboru do PFR Starter oraz PFR Biznest. W trakcie wydarzenia przedstawimy główne założenia programów, a także omówimy......
URL:https://app.evenea.pl/event/starterbiznest10/
PRIORITY:1
CLASS:PUBLIC
END:VEVENT
END:VCALENDAR
