BEGIN:VCALENDAR
VERSION:2.0
METHOD:PUBLISH
BEGIN:VEVENT
DTSTART:20240926T100000
DTEND:20240926T100000
LOCATION:Inkubator Przedsiębiorczości Krosno Żwirki i Wigury 15  Krosno
TRANSP: OPAQUE
SEQUENCE:0
UID:
DTSTAMP:20260419T181249Z
SUMMARY:Jak aplikować do projektu Platformy Startowe Start in...
DESCRIPTION:Zapraszamy do wzięcia udziału w Warsztatach dotyczących aplikowania do projektu Platformy Startowe Start in...Miejsce: Inkubator Przedsiębiorczości Krosno ul. Żwirki i Wigury 15, 38-400......
URL:https://app.evenea.pl/event/startin-krosno/
PRIORITY:1
CLASS:PUBLIC
END:VEVENT
END:VCALENDAR
