BEGIN:VCALENDAR
VERSION:2.0
METHOD:PUBLISH
BEGIN:VEVENT
DTSTART:20230426T100000
DTEND:20230426T130000
LOCATION:Uniwersytet Technologiczno-Humanistyczny Malczewskiego 29 sala 19  Radom
TRANSP: OPAQUE
SEQUENCE:0
UID:
DTSTAMP:20260425T221635Z
SUMMARY:Startup Camp Radom
DESCRIPTION:Warsztat STARTUP CAMPOd pomysłu do własnej firmy. Lean Startup26 kwietnia w godz. 10.00-13.00 UTH RADOMStartup Radom to program inkubacyjny dla studentów i doktorantów z regionu radomskiego.......
URL:https://app.evenea.pl/event/startupcamputh/
PRIORITY:1
CLASS:PUBLIC
END:VEVENT
END:VCALENDAR
