BEGIN:VCALENDAR
VERSION:2.0
METHOD:PUBLISH
BEGIN:VEVENT
DTSTART:20260203T130000
DTEND:20260203T180000
LOCATION:Urząd Gminy Czosnów (sala nr 15) ul. Gminna 6  05-152 Czosnów
TRANSP: OPAQUE
SEQUENCE:0
UID:
DTSTAMP:20260421T052425Z
SUMMARY:Szkolenie przygotowujące do aplikowania o wsparcie - 1.3 Wsparcie rolników w małych gospodarstwach poprzez utworzenie zagrody edukacyjnej
DESCRIPTION:towarzyszenie "Między Wisłą a Kampinosem" serdecznie zaprasza3 lutego 2026 r. (wtorek) w godzinach 13:00-18:00do Urzędu Gminy Czosnów ul. Gminna 6, 05-152 Czosnów (sala nr 15, I piętro)na......
URL:https://app.evenea.pl/event/startze/
PRIORITY:1
CLASS:PUBLIC
END:VEVENT
END:VCALENDAR
