BEGIN:VCALENDAR
VERSION:2.0
METHOD:PUBLISH
BEGIN:VEVENT
DTSTART:20190825T090000
DTEND:20190825T170000
LOCATION:FabLab Gdańsk powered by Orange ul. Dolna Brama 8  Gdańsk
TRANSP: OPAQUE
SEQUENCE:0
UID:
DTSTAMP:20260425T013650Z
SUMMARY:Podstawy stolarstwa - stojak na czasopisma
DESCRIPTION:W warsztacie stolarskim stworzysz nieszablonowy stojak na gazety. Te warsztaty to dobry start na stolarni - poznasz stanowisko stolarskie. Na początku zajęć uczestnicy zapoznają się z......
URL:https://app.evenea.pl/event/stojka/
PRIORITY:1
CLASS:PUBLIC
END:VEVENT
END:VCALENDAR
