BEGIN:VCALENDAR
VERSION:2.0
METHOD:PUBLISH
BEGIN:VEVENT
DTSTART:20200307T100000
DTEND:20200308T170000
LOCATION:HL Hotel Lechicka ul. Lechicka 101  Poznań
TRANSP: OPAQUE
SEQUENCE:0
UID:
DTSTAMP:20260425T183954Z
SUMMARY:STORYTELLING w biznesie - edycja X
DESCRIPTION:\n\n	\n\n\n	\n\n\n	\n\n	\n\n	\n\n	\n\n	\n\n\n\n	\n\n\n\n\n\n\n\n	\n\n	\n\n	\n\n		\n\n		\n\n	\n\n	\n\n		 \n\n	\n\n\n\n\n\n\n\n	\n\n	\n\n\n\n	Dobrze opowiedziana historia zapewnia kluczową korzyść......
URL:https://app.evenea.pl/event/storytelling-power-edycja-x/
PRIORITY:1
CLASS:PUBLIC
END:VEVENT
END:VCALENDAR
