BEGIN:VCALENDAR
VERSION:2.0
METHOD:PUBLISH
BEGIN:VEVENT
DTSTART:20210312T100000
DTEND:20210312T160000
LOCATION:Google Meet   
TRANSP: OPAQUE
SEQUENCE:0
UID:
DTSTAMP:20260421T180400Z
SUMMARY:STORYTELLING W BIZNESIE
DESCRIPTION: Co jest wyzwaniem w tworzeniu dobrej historii?Uczestnicy zapisujący się na warsztaty storytellingu zgłaszają zazwyczaj podobne kwestie związane z tworzeniem angażujących opowieści w......
URL:https://app.evenea.pl/event/storytellingmarzec/
PRIORITY:1
CLASS:PUBLIC
END:VEVENT
END:VCALENDAR
