BEGIN:VCALENDAR
VERSION:2.0
METHOD:PUBLISH
BEGIN:VEVENT
DTSTART:20210909T110000
DTEND:20210909T120000
LOCATION:link do transmisji zostanie przesłany do uczestników w wiadomości potwierdzającej rejestrację   
TRANSP: OPAQUE
SEQUENCE:0
UID:
DTSTAMP:20260420T062632Z
SUMMARY:Webinar TLA - Strategia Podatkowa
DESCRIPTION:Zapraszamy na spotkanie!Temat spotkania:Strategia PodatkowaZagadnienia, które omówimy podczas webinarium:czego dotyczy strategia podatkowa; ryzyka w dziale podatkowym; zarządzanie funkcją......
URL:https://app.evenea.pl/event/strategiapodatkowatla/
PRIORITY:1
CLASS:PUBLIC
END:VEVENT
END:VCALENDAR
