BEGIN:VCALENDAR
VERSION:2.0
METHOD:PUBLISH
BEGIN:VEVENT
DTSTART:20230427T190000
DTEND:20230427T220000
LOCATION:Hotel Indigo Krakow - Old Town ul. Św. Filipa 18  Kraków
TRANSP: OPAQUE
SEQUENCE:0
UID:
DTSTAMP:20260425T201958Z
SUMMARY:Strefa kolekcjonowania - klub miłośniczek i kolekcjonerek sztuki - kwiecień 2023 : : SURREAL IMAGES - KREACJA W FOTOGRAFII
DESCRIPTION:Zapraszamy na kolejne spotkanie klubu dla miłośniczek i kolekcjonerek sztuki STREFA KOLEKCJONOWANIA!Spotkajmy się 27 kwietnia 2023 roku, w czwartek, o godz. 19:00, ponownie w Hotelu Indigo......
URL:https://app.evenea.pl/event/strefakolekcjonowania0423/
PRIORITY:1
CLASS:PUBLIC
END:VEVENT
END:VCALENDAR
