BEGIN:VCALENDAR
VERSION:2.0
METHOD:PUBLISH
BEGIN:VEVENT
DTSTART:20191128T180000
DTEND:20191128T200000
LOCATION:Centrum Wykładowe Politechniki Poznańskiej Piotrowo 2, sala nr 121, I piętro  Poznań
TRANSP: OPAQUE
SEQUENCE:0
UID:
DTSTAMP:20260425T134502Z
SUMMARY:Talenty Gallupa - Strengths Community Meetup Poznań #6 - Poznańskie Talenty - Uwalniamy mocne strony
DESCRIPTION:Ahoj, Entuzjaści Mocnych Stron i Talentów Gallupa!\n\n	\n\nReaktywujemy spotkania entuzjastów mocnych stron w Poznaniu! To będzie pierwsze nasze spotkanie po długiej przerwie. Bardzo ciekawi......
URL:https://app.evenea.pl/event/strengthscommunitymeetup-poznan4/
PRIORITY:1
CLASS:PUBLIC
END:VEVENT
END:VCALENDAR
