BEGIN:VCALENDAR
VERSION:2.0
METHOD:PUBLISH
BEGIN:VEVENT
DTSTART:20230311T163000
DTEND:20230311T210800
LOCATION:Akademik BaseCamp Sienkiewicza 22  Wrocław
TRANSP: OPAQUE
SEQUENCE:0
UID:
DTSTAMP:20260423T103157Z
SUMMARY:🗨 StudentPro spotkanie/warsztaty: Jak ciekawe opowiadać o działalności studenckiej i kół naukowych
DESCRIPTION:Jak opowiadać o działaniach studenckich, żeby byli na nich uczestnicy, żeby lepiej rekrutować do organizacji, żeby zaprosić firmy do współpracy?To tematy, które poruszymy z Pawłem......
URL:https://app.evenea.pl/event/studentpro-storytelling/
PRIORITY:1
CLASS:PUBLIC
END:VEVENT
END:VCALENDAR
