BEGIN:VCALENDAR
VERSION:2.0
METHOD:PUBLISH
BEGIN:VEVENT
DTSTART:20260426T090000
DTEND:20260524T130000
LOCATION:on-line   
TRANSP: OPAQUE
SEQUENCE:0
UID:
DTSTAMP:20260422T151331Z
SUMMARY:BEYOND KNOWLEDGE - Integral Somatic Method — Sundao; ISM
DESCRIPTION:Sundao; ISM — Integral Somatic MethodNEW SERIES — Beyond Knowledge: Return to the Source of True KnowingFormatOnline, live — 3 sessionsDatesApril 26, May 10, May 24Time9:00 - 12:00 (each......
URL:https://app.evenea.pl/event/sundao-beyond-knowledge/
PRIORITY:1
CLASS:PUBLIC
END:VEVENT
END:VCALENDAR
