BEGIN:VCALENDAR
VERSION:2.0
METHOD:PUBLISH
BEGIN:VEVENT
DTSTART:20260426T110000
DTEND:20260524T140000
LOCATION:on-line   
TRANSP: OPAQUE
SEQUENCE:0
UID:
DTSTAMP:20260422T152228Z
SUMMARY:Живое сознание - Сундао; ИСМ - Mастер Ю и Суджин Ким
DESCRIPTION:Сундао; ИСМНОВЫЙ ЦИКЛ — За пределами Знания: Возвращение к Источнику Подлинного ПознанияФорматОнлайн, в......
URL:https://app.evenea.pl/event/sundao-ism-beyond-r/
PRIORITY:1
CLASS:PUBLIC
END:VEVENT
END:VCALENDAR
