BEGIN:VCALENDAR
VERSION:2.0
METHOD:PUBLISH
BEGIN:VEVENT
DTSTART:20260426T090000
DTEND:20260524T120000
LOCATION:on-line   
TRANSP: OPAQUE
SEQUENCE:0
UID:
DTSTAMP:20260422T151301Z
SUMMARY:PONAD WIEDZĄ - Integral Somatic Method - Sundao; ISM - Master Yu & SooJin Kim
DESCRIPTION:Sundao; ISM — Integral Somatic MethodNOWY CYKL - Ponad Wiedzą: Powrót do źródła Prawdziwego PoznaniaFormatOnline na żywo — 3 spotkaniaTerminy26 kwietnia, 10 maja, 24 majaGodziny9:00 -......
URL:https://app.evenea.pl/event/sundaoism2026kopia1/
PRIORITY:1
CLASS:PUBLIC
END:VEVENT
END:VCALENDAR
