BEGIN:VCALENDAR
VERSION:2.0
METHOD:PUBLISH
BEGIN:VEVENT
DTSTART:20240609T130000
DTEND:20240609T130000
LOCATION:Ośrodek Roma Fiołkowa 53  Łapino
TRANSP: OPAQUE
SEQUENCE:0
UID:
DTSTAMP:20260423T032430Z
SUMMARY:SUP Demo Tour Kaszuby - Żukowo SUP Cup
DESCRIPTION:I ŻUKOWO SUP CUP - zawody SUP dla amatorów9 czerwca 2024, Łapino, ośrodek Roma 1. Sprint (około godz. 13.00)na dystansie około 60 metrów, start i meta na wodzie 2. Wyścig techniczny (około......
URL:https://app.evenea.pl/event/supdemotourkaszuby/
PRIORITY:1
CLASS:PUBLIC
END:VEVENT
END:VCALENDAR
