BEGIN:VCALENDAR
VERSION:2.0
METHOD:PUBLISH
BEGIN:VEVENT
DTSTART:20240321T170000
DTEND:20240321T190000
LOCATION:Akademia Ja ul. Śląska 51B/1A  81-304 Gdynia
TRANSP: OPAQUE
SEQUENCE:0
UID:
DTSTAMP:20260425T191152Z
SUMMARY:Superwizja grupowa w Gdyni
DESCRIPTION:Zapraszamy wszystkich praktykujących coachów do udziału w stacjonarnej superwizji grupowej, która odbędzie się w Gdyni, w dniu 21 marca 2024 r. w godz. 17:00-19:00. Wydarzenie to będzie......
URL:https://app.evenea.pl/event/superwizjagdynia21032024/
PRIORITY:1
CLASS:PUBLIC
END:VEVENT
END:VCALENDAR
