BEGIN:VCALENDAR
VERSION:2.0
METHOD:PUBLISH
BEGIN:VEVENT
DTSTART:20230613T090000
DTEND:20230613T120000
LOCATION:online   
TRANSP: OPAQUE
SEQUENCE:0
UID:
DTSTAMP:20260424T235513Z
SUMMARY:Superwizja grupowa dla coachów (online) 13.06.2023 r.
DESCRIPTION:Zapraszamy wszystkich praktykujących coachów do uczestnictwa w superwizji grupowej online.Czym jest superwizja?Superwizja w coachingu to proces refleksyjnego uczenia się, rozwoju i......
URL:https://app.evenea.pl/event/superwizjagrupowa13062023/
PRIORITY:1
CLASS:PUBLIC
END:VEVENT
END:VCALENDAR
