BEGIN:VCALENDAR
VERSION:2.0
METHOD:PUBLISH
BEGIN:VEVENT
DTSTART:20260518T100000
DTEND:20260518T170000
LOCATION:Port Empatii Okrzei 6  Warszawa
TRANSP: OPAQUE
SEQUENCE:0
UID:
DTSTAMP:20260421T134955Z
SUMMARY:SUPERWIZJA TEAMCOACHINGOWA - dla osób pracujących z grupami metodami coachingu zespołowego
DESCRIPTION:Zapraszamy coachów i osoby pracujące z zespołami metodami team coachingowymi na intensywny, jednodniowy warsztat superwizyjny. To doskonała okazja, aby pogłębić swoje umiejętności,......
URL:https://app.evenea.pl/event/superwizjatc202605/
PRIORITY:1
CLASS:PUBLIC
END:VEVENT
END:VCALENDAR
