BEGIN:VCALENDAR
VERSION:2.0
METHOD:PUBLISH
BEGIN:VEVENT
DTSTART:20240209T130000
DTEND:20240209T150000
LOCATION:Urząd Gminy Suwałki ul. Świerkowa 45  Suwałki
TRANSP: OPAQUE
SEQUENCE:0
UID:
DTSTAMP:20260421T190353Z
SUMMARY:Bezpłatne szkolenie dla przedsiębiorców "Bądź gotowy na KSeF" 09.02.2024r. SUWAŁKI_OSCBR
DESCRIPTION:Zapraszamy na bezpłatne szkolenie dla przedsiębiorców w ramach programu "Bądź Gotowy na KSeF" pod patronatem honorowym Ministerstwa Finansów.Czy prowadzisz swoją księgowość samodzielnie?......
URL:https://app.evenea.pl/event/suwalki-ksef/
PRIORITY:1
CLASS:PUBLIC
END:VEVENT
END:VCALENDAR
