BEGIN:VCALENDAR
VERSION:2.0
METHOD:PUBLISH
BEGIN:VEVENT
DTSTART:20251029T100000
DTEND:20251029T100000
LOCATION:Suwalski Ośrodek Kultury Jana Pawła II 5  Suwałki
TRANSP: OPAQUE
SEQUENCE:0
UID:
DTSTAMP:20260423T113140Z
SUMMARY:Suwalskie Forum Kobiet. Zdrowie i aktywność
DESCRIPTION:Suwalskie Forum Kobiet. Zdrowie i aktywność - spotkanie, które daje wiedzę, siłę i motywację29 października 2025 roku w Suwałkach odbędzie się pierwsza edycja Suwalskiego Forum Kobiet -......
URL:https://app.evenea.pl/event/suwalskieforumkobiet/
PRIORITY:1
CLASS:PUBLIC
END:VEVENT
END:VCALENDAR
