BEGIN:VCALENDAR
VERSION:2.0
METHOD:PUBLISH
BEGIN:VEVENT
DTSTART:20220125T100000
DTEND:20220125T100000
LOCATION:Centrum Prasowe PAP Bracka 6/8  Warszawa
TRANSP: OPAQUE
SEQUENCE:0
UID:
DTSTAMP:20260420T044151Z
SUMMARY:Suwerenność cyfrowa - utopia czy realna szansa?
DESCRIPTION:Jak duży wpływ mają media internetowe na funkcjonowanie współczesnych społeczeństw i państw? Czy Unia Europejska ma szansę być suwerenna cyfrowo, a może to utopia? Na te i inne pytania......
URL:https://app.evenea.pl/event/suwerennosc/
PRIORITY:1
CLASS:PUBLIC
END:VEVENT
END:VCALENDAR
