BEGIN:VCALENDAR
VERSION:2.0
METHOD:PUBLISH
BEGIN:VEVENT
DTSTART:20191203T183000
DTEND:20191203T200000
LOCATION:Biuro Aon Ul. Powstańców Wielkopolskich 13G/E1  Kraków
TRANSP: OPAQUE
SEQUENCE:0
UID:
DTSTAMP:20260425T130657Z
SUMMARY:Personal branding na LinkedIn. Jak świadomie budować markę osobistą?
DESCRIPTION:LinkedIn to największa na świecie sieć profesjonalnych kontaktów. Sztuka korzystania z niej polega na tym, aby pozwolić się odnaleźć właściwym osobom lub też samemu odnaleźć właściwe......
URL:https://app.evenea.pl/event/swiadomebudowaniemarki/
PRIORITY:1
CLASS:PUBLIC
END:VEVENT
END:VCALENDAR
