BEGIN:VCALENDAR
VERSION:2.0
METHOD:PUBLISH
BEGIN:VEVENT
DTSTART:20251220T140000
DTEND:20251220T140000
LOCATION:Polsat Plus Arena Club Pokoleń Lechii Gdańsk 1  Gdańsk
TRANSP: OPAQUE
SEQUENCE:0
UID:
DTSTAMP:20260420T230847Z
SUMMARY:Świąteczny Maraton Zumba Fitness & rodzinne gry i zabawy
DESCRIPTION:🎄💃 Świąteczny Maraton Zumba Fitness &amp; gry, zabawy i warsztaty dla całej rodziny! 🎁✨Poczuj magię świąt w rytmie ZUMBY! Zapraszamy na najbardziej roztańczone wydarzenie grudnia......
URL:https://app.evenea.pl/event/swiateczny-maraton/
PRIORITY:1
CLASS:PUBLIC
END:VEVENT
END:VCALENDAR
