BEGIN:VCALENDAR
VERSION:2.0
METHOD:PUBLISH
BEGIN:VEVENT
DTSTART:20240510T153000
DTEND:20240511T173000
LOCATION:Hevelianum,  sala Pitagorasa Gradowa 6, 80-802  Gdańsk
TRANSP: OPAQUE
SEQUENCE:0
UID:
DTSTAMP:20260420T054451Z
SUMMARY:Dobrostan Seniora - Światło na rośliny
DESCRIPTION:Warsztaty "Dobrostan Seniora - światło na rośliny" skupia się na konieczności zwiększenia aktywności społecznej i fizycznej seniorów, co stanowi ważny aspekt utrzymania zdrowego stylu......
URL:https://app.evenea.pl/event/swiatlo-na-rosliny/
PRIORITY:1
CLASS:PUBLIC
END:VEVENT
END:VCALENDAR
