BEGIN:VCALENDAR
VERSION:2.0
METHOD:PUBLISH
BEGIN:VEVENT
DTSTART:20260321T160000
DTEND:20260321T180000
LOCATION:Zespół Hal Targowych- podziemia Hali Łukowej Box 320 Wójta Radtkego 36 - wejście od ul. 3 Maja  81-355 Gdynia
TRANSP: OPAQUE
SEQUENCE:0
UID:
DTSTAMP:20260425T061956Z
SUMMARY:"ŚWIETLIK. Historie z rzutnika: Świat polskiego diapozytywu XX wieku" - warsztat budowy przezrocza oraz seans świetlny z Pauliną Pieślak
DESCRIPTION:Uczestnicy poznają historię polskiego diapozytywu, jego formy i technikę, a następnie - w duchu zero waste - samodzielnie osadzą stare, zapomniane przezrocza w klasyczne oprawki, nadając im......
URL:https://app.evenea.pl/event/swietlik/
PRIORITY:1
CLASS:PUBLIC
END:VEVENT
END:VCALENDAR
