BEGIN:VCALENDAR
VERSION:2.0
METHOD:PUBLISH
BEGIN:VEVENT
DTSTART:20191231T200000
DTEND:20200101T040000
LOCATION:Hotel Riviera Nowodworska 32  Olszewnica Nowa
TRANSP: OPAQUE
SEQUENCE:0
UID:
DTSTAMP:20260424T053758Z
SUMMARY:Najlepsze zakończenie roku, czyli Sylwester w Hotelu Riviera !
DESCRIPTION:Najlepsze zakończenie roku, czyli Sylwester w Hotelu Riviera !Jak zwykle zapewnimy przepyszną kuchnie i wspaniałą zabawę.W Cenie mają Państwo:1. Open Bar na wybrane alkohole (wódka, wino,......
URL:https://app.evenea.pl/event/sylwesterriviera/
PRIORITY:1
CLASS:PUBLIC
END:VEVENT
END:VCALENDAR
